BEGIN:VCALENDAR
VERSION:2.0
PRODID:-//wp-events-plugin.com//7.2.3.1//EN
BEGIN:VEVENT
UID:404@rotonda.de
DTSTART;TZID=Europe/Berlin:20211115T180000
DTEND;TZID=Europe/Berlin:20211115T220000
DTSTAMP:20260316T103020Z
URL:https://rotonda.de/programm/interact-architektur-und-immobilientreff-1
 9/
SUMMARY:InterACT: Architektur- und Immobilientreff: TOP-TREND Redevelopment
  – Neues Leben für alte Gebäude
DESCRIPTION:
ATTACH;FMTTYPE=image/jpeg:https://rotonda.de/wp-content/uploads/2021/06/20
 211115_CGN_Visual-2.jpg
CATEGORIES:Immobilienwirtschaft und Architektur
LOCATION:Rotonda Business-Club Köln\, Pantaleonswall 27\, Köln\, NRW\, 50
 676\, Deutschland
X-APPLE-STRUCTURED-LOCATION;VALUE=URI;X-ADDRESS=Pantaleonswall 27\, Köln\,
  NRW\, 50676\, Deutschland;X-APPLE-RADIUS=100;X-TITLE=Rotonda Business-Clu
 b Köln:geo:0,0
END:VEVENT
BEGIN:VTIMEZONE
TZID:Europe/Berlin
X-LIC-LOCATION:Europe/Berlin
BEGIN:STANDARD
DTSTART:20211031T020000
TZOFFSETFROM:+0200
TZOFFSETTO:+0100
TZNAME:CET
END:STANDARD
END:VTIMEZONE
END:VCALENDAR